{ "currentVersion": 11.5, "cimVersion": "3.5.0", "serviceDescription": "Beschriftungen der Basis- oder Hintergrundkarte des gesamten Stadtgebietes mit der Darstellung des aktuellen Luftbildes.", "mapName": "Luftbildkarte Beschriftung", "description": "
Beschriftungen für die<\/SPAN>Luftbildkarte <\/SPAN>des gesamten <\/SPAN>Stadtgebiet<\/SPAN>s<\/SPAN>Nürnberg<\/SPAN>.<\/SPAN><\/P><\/DIV><\/DIV><\/DIV>",
"copyrightText": "© Stadt Nürnberg",
"supportsDynamicLayers": true,
"layers": [
{
"id": 0,
"name": "Schrift",
"parentLayerId": -1,
"defaultVisibility": true,
"subLayerIds": [
1,
4,
9,
12
],
"minScale": 0,
"maxScale": 0,
"type": "Group Layer",
"supportsDynamicLegends": false
},
{
"id": 1,
"name": "Gemarkung",
"parentLayerId": 0,
"defaultVisibility": true,
"subLayerIds": [
2,
3
],
"minScale": 0,
"maxScale": 0,
"type": "Group Layer",
"supportsDynamicLegends": false
},
{
"id": 2,
"name": "Gemarkung (50000-100000)",
"parentLayerId": 1,
"defaultVisibility": true,
"subLayerIds": null,
"minScale": 100009,
"maxScale": 50010,
"type": "Feature Layer",
"geometryType": "esriGeometryPolygon",
"supportsDynamicLegends": true
},
{
"id": 3,
"name": "Gemarkung (5000-50000)",
"parentLayerId": 1,
"defaultVisibility": true,
"subLayerIds": null,
"minScale": 50009,
"maxScale": 5010,
"type": "Feature Layer",
"geometryType": "esriGeometryPolygon",
"supportsDynamicLegends": true
},
{
"id": 4,
"name": "Verkehr",
"parentLayerId": 0,
"defaultVisibility": true,
"subLayerIds": [
5,
6,
7,
8
],
"minScale": 0,
"maxScale": 0,
"type": "Group Layer",
"supportsDynamicLegends": false
},
{
"id": 5,
"name": "Straßennamen (24000-50000)",
"parentLayerId": 4,
"defaultVisibility": true,
"subLayerIds": null,
"minScale": 50009,
"maxScale": 24010,
"type": "Feature Layer",
"geometryType": "esriGeometryPolyline",
"supportsDynamicLegends": true
},
{
"id": 6,
"name": "Straßennamen (10000-24000)",
"parentLayerId": 4,
"defaultVisibility": true,
"subLayerIds": null,
"minScale": 24009,
"maxScale": 10010,
"type": "Feature Layer",
"geometryType": "esriGeometryPolyline",
"supportsDynamicLegends": true
},
{
"id": 7,
"name": "Straßennamen (5000-10000)",
"parentLayerId": 4,
"defaultVisibility": true,
"subLayerIds": null,
"minScale": 10009,
"maxScale": 5010,
"type": "Feature Layer",
"geometryType": "esriGeometryPolyline",
"supportsDynamicLegends": true
},
{
"id": 8,
"name": "Straßennamen (1-5000)",
"parentLayerId": 4,
"defaultVisibility": true,
"subLayerIds": null,
"minScale": 5009,
"maxScale": 0,
"type": "Feature Layer",
"geometryType": "esriGeometryPolyline",
"supportsDynamicLegends": true
},
{
"id": 9,
"name": "Schriftzusätze",
"parentLayerId": 0,
"defaultVisibility": true,
"subLayerIds": [
10,
11
],
"minScale": 0,
"maxScale": 0,
"type": "Group Layer",
"supportsDynamicLegends": false
},
{
"id": 10,
"name": "Landschaftsnamen (5000-24000)",
"parentLayerId": 9,
"defaultVisibility": true,
"subLayerIds": null,
"minScale": 24009,
"maxScale": 5010,
"type": "Feature Layer",
"geometryType": "esriGeometryPoint",
"supportsDynamicLegends": true
},
{
"id": 11,
"name": "Parks, Friedhöfe, Sportanlagen (5000-24000)",
"parentLayerId": 9,
"defaultVisibility": true,
"subLayerIds": null,
"minScale": 24009,
"maxScale": 5010,
"type": "Feature Layer",
"geometryType": "esriGeometryPoint",
"supportsDynamicLegends": true
},
{
"id": 12,
"name": "Gebäude",
"parentLayerId": 0,
"defaultVisibility": true,
"subLayerIds": [
13
],
"minScale": 0,
"maxScale": 0,
"type": "Group Layer",
"supportsDynamicLegends": false
},
{
"id": 13,
"name": "Hausnummern (1-2000)",
"parentLayerId": 12,
"defaultVisibility": true,
"subLayerIds": [
14
],
"minScale": 2009,
"maxScale": 0,
"type": "Annotation Layer",
"geometryType": "esriGeometryPolygon",
"supportsDynamicLegends": false
},
{
"id": 14,
"name": "Standard",
"parentLayerId": 13,
"defaultVisibility": true,
"subLayerIds": null,
"minScale": 0,
"maxScale": 0,
"supportsDynamicLegends": false
},
{
"id": 15,
"name": "Grenzen",
"parentLayerId": -1,
"defaultVisibility": true,
"subLayerIds": [
16
],
"minScale": 0,
"maxScale": 0,
"type": "Group Layer",
"supportsDynamicLegends": false
},
{
"id": 16,
"name": "Stadtgrenze (1-270000)",
"parentLayerId": 15,
"defaultVisibility": true,
"subLayerIds": null,
"minScale": 270000,
"maxScale": 0,
"type": "Feature Layer",
"geometryType": "esriGeometryPolygon",
"supportsDynamicLegends": true
}
],
"tables": [],
"spatialReference": {
"wkid": 25832,
"latestWkid": 25832,
"xyTolerance": 0.001,
"zTolerance": 0.001,
"mTolerance": 0.001,
"falseX": -5120900,
"falseY": -9998100,
"xyUnits": 4.504455473910538E8,
"falseZ": -100000,
"zUnits": 10000,
"falseM": -100000,
"mUnits": 10000
},
"singleFusedMapCache": true,
"tileInfo": {
"rows": 512,
"cols": 512,
"dpi": 96,
"format": "PNG32",
"compressionQuality": 0,
"origin": {
"x": 600000,
"y": 5500000
},
"spatialReference": {
"wkid": 25832,
"latestWkid": 25832,
"xyTolerance": 0.001,
"zTolerance": 0.001,
"mTolerance": 0.001,
"falseX": -5120900,
"falseY": -9998100,
"xyUnits": 4.504455473910538E8,
"falseZ": -100000,
"zUnits": 10000,
"falseM": -100000,
"mUnits": 10000
},
"lods": [
{
"level": 0,
"resolution": 66.1459656252646,
"scale": 250000
},
{
"level": 1,
"resolution": 52.91677250021167,
"scale": 200000
},
{
"level": 2,
"resolution": 39.687579375158755,
"scale": 150000
},
{
"level": 3,
"resolution": 33.0729828126323,
"scale": 125000
},
{
"level": 4,
"resolution": 26.458386250105836,
"scale": 100000
},
{
"level": 5,
"resolution": 19.843789687579378,
"scale": 75000
},
{
"level": 6,
"resolution": 13.229193125052918,
"scale": 50000
},
{
"level": 7,
"resolution": 10.583354500042335,
"scale": 40000
},
{
"level": 8,
"resolution": 7.9375158750317505,
"scale": 30000
},
{
"level": 9,
"resolution": 5.291677250021167,
"scale": 20000
},
{
"level": 10,
"resolution": 3.9687579375158752,
"scale": 15000
},
{
"level": 11,
"resolution": 2.6458386250105836,
"scale": 10000
},
{
"level": 12,
"resolution": 1.9843789687579376,
"scale": 7500
},
{
"level": 13,
"resolution": 1.3229193125052918,
"scale": 5000
},
{
"level": 14,
"resolution": 1.0583354500042335,
"scale": 4000
},
{
"level": 15,
"resolution": 0.7937515875031751,
"scale": 3000
},
{
"level": 16,
"resolution": 0.5291677250021167,
"scale": 2000
},
{
"level": 17,
"resolution": 0.39687579375158755,
"scale": 1500
},
{
"level": 18,
"resolution": 0.26458386250105836,
"scale": 1000
},
{
"level": 19,
"resolution": 0.13229193125052918,
"scale": 500
},
{
"level": 20,
"resolution": 0.06614596562526459,
"scale": 250
}
]
},
"storageInfo": {
"storageFormat": "esriMapCacheStorageModeCompactV2",
"packetSize": 128
},
"initialExtent": {
"xmin": 650353.082378795,
"ymin": 5478400.424094616,
"xmax": 652288.5876184391,
"ymax": 5479839.538981852,
"spatialReference": {
"wkid": 25832,
"latestWkid": 25832,
"xyTolerance": 0.001,
"zTolerance": 0.001,
"mTolerance": 0.001,
"falseX": -5120900,
"falseY": -9998100,
"xyUnits": 4.504455473910538E8,
"falseZ": -100000,
"zUnits": 10000,
"falseM": -100000,
"mUnits": 10000
}
},
"fullExtent": {
"xmin": 643879.1900000001,
"ymin": 5466356.93,
"xmax": 665559.89,
"ymax": 5492944.7853,
"spatialReference": {
"wkid": 25832,
"latestWkid": 25832,
"xyTolerance": 0.001,
"zTolerance": 0.001,
"mTolerance": 0.001,
"falseX": -5120900,
"falseY": -9998100,
"xyUnits": 4.504455473910538E8,
"falseZ": -100000,
"zUnits": 10000,
"falseM": -100000,
"mUnits": 10000
}
},
"datesInUnknownTimezone": false,
"minScale": 250000,
"maxScale": 250,
"units": "esriMeters",
"supportedImageFormatTypes": "PNG32,PNG24,PNG,JPG,DIB,TIFF,EMF,PS,PDF,GIF,SVG,SVGZ,BMP",
"documentInfo": {
"Title": "Beschriftungen für die Luftbildkarte",
"Author": "",
"Comments": " Beschriftungen für die<\/SPAN>Luftbildkarte <\/SPAN>des gesamten <\/SPAN>Stadtgebiet<\/SPAN>s<\/SPAN>Nürnberg<\/SPAN>.<\/SPAN><\/P><\/DIV><\/DIV><\/DIV>",
"Subject": "Beschriftungen der Basis- oder Hintergrundkarte des gesamten Stadtgebietes mit der Darstellung des aktuellen Luftbildes",
"Category": "",
"Version": "2.6.0",
"AntialiasingMode": "Fast",
"TextAntialiasingMode": "Force",
"Keywords": "Luftbildkarte,Basiskarte,Hintergrundkarte,Orthofoto,Luftbild,Beschriftungen"
},
"supportsQueryDomains": true,
"capabilities": "Map,Query,Data",
"supportedQueryFormats": "JSON, geoJSON, PBF",
"exportTilesAllowed": false,
"referenceScale": 1000.0,
"supportsDatumTransformation": true,
"archivingInfo": {"supportsHistoricMoment": false},
"supportsClipping": true,
"supportsSpatialFilter": true,
"supportsTimeRelation": true,
"supportsQueryDataElements": true,
"mapUnits": {"uwkid": 9001},
"maxSelectionCount": 2000,
"maxRecordCount": 2000,
"maxImageHeight": 4096,
"maxImageWidth": 4096,
"supportedExtensions": "",
"resampling": true,
"serviceItemId": "f3627f6421f240ddb34543157d4e0ec8"
}