{ "currentVersion": 11.5, "cimVersion": "3.5.0", "serviceDescription": "Entzerrte Echtfarben-Luftbilder (Orthophotos) für die gesamte Stadt Nürnberg.\nBefliegungsdatum: 05.04.2026 \nausgeführt durch: Aerowest GmbH\nAuflösung: 7,5 cm", "mapName": "Luftbild_2026", "description": "
Entzerrte Echtfarben-Luftbilder (Orthophotos) für die gesamte Stadt Nürnberg.<\/SPAN><\/P> Befliegungsdatum: 05.04.2026 <\/SPAN><\/P> ausgeführt durch: Aerowest GmbH<\/SPAN><\/P> Auflösung: 7,5 cm<\/SPAN><\/P><\/DIV>",
"copyrightText": "© Stadt Nürnberg",
"supportsDynamicLayers": true,
"layers": [
{
"id": 400127050,
"name": "Luftbild_2026",
"parentLayerId": -1,
"defaultVisibility": true,
"subLayerIds": null,
"minScale": 0,
"maxScale": 0,
"type": "Raster Layer",
"supportsDynamicLegends": true
}
],
"tables": [],
"spatialReference": {
"wkid": 25832,
"latestWkid": 25832,
"xyTolerance": 0.001,
"zTolerance": 0.001,
"mTolerance": 0.001,
"falseX": -5120900,
"falseY": -9998100,
"xyUnits": 10000,
"falseZ": -100000,
"zUnits": 10000,
"falseM": -100000,
"mUnits": 10000
},
"singleFusedMapCache": true,
"tileInfo": {
"rows": 512,
"cols": 512,
"dpi": 96,
"format": "JPEG",
"compressionQuality": 75,
"origin": {
"x": 600000,
"y": 5500000
},
"spatialReference": {
"wkid": 25832,
"latestWkid": 25832,
"xyTolerance": 0.001,
"zTolerance": 0.001,
"mTolerance": 0.001,
"falseX": -5120900,
"falseY": -9998100,
"xyUnits": 4.504455473910538E8,
"falseZ": -100000,
"zUnits": 10000,
"falseM": -100000,
"mUnits": 10000
},
"lods": [
{
"level": 0,
"resolution": 66.1459656252646,
"scale": 250000
},
{
"level": 1,
"resolution": 26.458386250105836,
"scale": 100000
},
{
"level": 2,
"resolution": 15.875031750063501,
"scale": 60000
},
{
"level": 3,
"resolution": 10.583354500042335,
"scale": 40000
},
{
"level": 4,
"resolution": 5.291677250021167,
"scale": 20000
},
{
"level": 5,
"resolution": 2.6458386250105836,
"scale": 10000
},
{
"level": 6,
"resolution": 1.3229193125052918,
"scale": 5000
},
{
"level": 7,
"resolution": 0.6614596562526459,
"scale": 2500
},
{
"level": 8,
"resolution": 0.26458386250105836,
"scale": 1000
},
{
"level": 9,
"resolution": 0.13229193125052918,
"scale": 500
},
{
"level": 10,
"resolution": 0.06614596562526459,
"scale": 250
},
{
"level": 11,
"resolution": 0.026458386250105836,
"scale": 100
}
]
},
"storageInfo": {
"storageFormat": "esriMapCacheStorageModeCompactV2",
"packetSize": 128
},
"initialExtent": {
"xmin": 636764.8583642934,
"ymin": 5467407.923477021,
"xmax": 670249.3039849356,
"ymax": 5489742.2186777955,
"spatialReference": {
"wkid": 25832,
"latestWkid": 25832,
"xyTolerance": 0.001,
"zTolerance": 0.001,
"mTolerance": 0.001,
"falseX": -5120900,
"falseY": -9998100,
"xyUnits": 10000,
"falseZ": -100000,
"zUnits": 10000,
"falseM": -100000,
"mUnits": 10000
}
},
"fullExtent": {
"xmin": 643500,
"ymin": 5466250,
"xmax": 666000,
"ymax": 5490250,
"spatialReference": {
"wkid": 25832,
"latestWkid": 25832,
"xyTolerance": 0.001,
"zTolerance": 0.001,
"mTolerance": 0.001,
"falseX": -5120900,
"falseY": -9998100,
"xyUnits": 10000,
"falseZ": -100000,
"zUnits": 10000,
"falseM": -100000,
"mUnits": 10000
}
},
"datesInUnknownTimezone": false,
"minScale": 250000,
"maxScale": 250,
"units": "esriMeters",
"supportedImageFormatTypes": "PNG32,PNG24,PNG,JPG,DIB,TIFF,EMF,PS,PDF,GIF,SVG,SVGZ,BMP",
"documentInfo": {
"Title": "Luftbild 2026",
"Author": "",
"Comments": " Entzerrte Echtfarben-Luftbilder (Orthophotos) für die gesamte Stadt Nürnberg.<\/SPAN><\/P> Befliegungsdatum: 05.04.2026 <\/SPAN><\/P> ausgeführt durch: Aerowest GmbH<\/SPAN><\/P> Auflösung: 7,5 cm<\/SPAN><\/P><\/DIV>",
"Subject": "Entzerrte Echtfarben-Luftbilder (Orthophotos) für die gesamte Stadt Nürnberg.",
"Category": "",
"Version": "3.1.0",
"AntialiasingMode": "None",
"TextAntialiasingMode": "None",
"Keywords": "Luftbild,Orthophoto,2026"
},
"supportsQueryDomains": true,
"capabilities": "Map,Query,Data",
"supportedQueryFormats": "JSON, geoJSON, PBF",
"exportTilesAllowed": false,
"referenceScale": 1000.0,
"supportsDatumTransformation": true,
"archivingInfo": {"supportsHistoricMoment": false},
"supportsClipping": true,
"supportsSpatialFilter": true,
"supportsTimeRelation": true,
"supportsQueryDataElements": true,
"mapUnits": {"uwkid": 9001},
"maxSelectionCount": 2000,
"maxRecordCount": 2000,
"maxImageHeight": 4096,
"maxImageWidth": 4096,
"supportedExtensions": "",
"resampling": true,
"serviceItemId": "97d587fd0ccd427aa45b690cd173ab16"
}