{
 "currentVersion": 11.5,
 "cimVersion": "3.5.0",
 "serviceDescription": "Der Flächennutzungsplan mit integriertem Landschaftsplan ist ein vorbereitender Bauleitplan, der von der Stadt in eigener Verantwortung aufgestellt wird. Ein aktueller und an vorsorgenden Ansprüchen ausgerichteter Flächennutzungsplan ist für die städtebauliche, soziale, ökologische und ökonomische Entwicklung der Stadt uneingeschränkt notwendig. Er ist Grundlage für eine geordnete räumliche Entwicklung der Stadt Nürnberg.\n\nFür die Richtigkeit, Aktualität und Vollständigkeit der Daten wird keine Gewähr übernommen.\n\nDieser Dienst ersetzt nicht die Rechtsverbindlichkeit der Originalpläne. Nur der Originalplan gibt im Sinne des BauGB die gültige Rechtslage wieder. Für rechtsverbindliche Auskünfte wenden Sie sich bitte an das Stadtplanungsamt.\n",
 "mapName": "Flaechennutzungsplan",
 "description": "Flächennutzungsplan",
 "copyrightText": "© Stadt Nürnberg",
 "supportsDynamicLayers": true,
 "layers": [
  {
   "id": 0,
   "name": "Flaechennutzungsplan",
   "parentLayerId": -1,
   "defaultVisibility": true,
   "subLayerIds": [
    1,
    2,
    3,
    4,
    5,
    6
   ],
   "minScale": 0,
   "maxScale": 0,
   "type": "Group Layer",
   "supportsDynamicLegends": false
  },
  {
   "id": 1,
   "name": "Texte",
   "parentLayerId": 0,
   "defaultVisibility": true,
   "subLayerIds": null,
   "minScale": 124999,
   "maxScale": 249,
   "type": "Feature Layer",
   "geometryType": "esriGeometryPoint",
   "supportsDynamicLegends": true
  },
  {
   "id": 2,
   "name": "Symbole_Restriktionen",
   "parentLayerId": 0,
   "defaultVisibility": true,
   "subLayerIds": null,
   "minScale": 124999,
   "maxScale": 249,
   "type": "Feature Layer",
   "geometryType": "esriGeometryPoint",
   "supportsDynamicLegends": true
  },
  {
   "id": 3,
   "name": "Symbole",
   "parentLayerId": 0,
   "defaultVisibility": true,
   "subLayerIds": null,
   "minScale": 124999,
   "maxScale": 249,
   "type": "Feature Layer",
   "geometryType": "esriGeometryPoint",
   "supportsDynamicLegends": true
  },
  {
   "id": 4,
   "name": "Linien_Restriktionen",
   "parentLayerId": 0,
   "defaultVisibility": true,
   "subLayerIds": null,
   "minScale": 124999,
   "maxScale": 249,
   "type": "Feature Layer",
   "geometryType": "esriGeometryPolyline",
   "supportsDynamicLegends": true
  },
  {
   "id": 5,
   "name": "Flaechen_Restriktionen",
   "parentLayerId": 0,
   "defaultVisibility": true,
   "subLayerIds": null,
   "minScale": 124999,
   "maxScale": 249,
   "type": "Feature Layer",
   "geometryType": "esriGeometryPolygon",
   "supportsDynamicLegends": true
  },
  {
   "id": 6,
   "name": "Flaechendarstellungen",
   "parentLayerId": 0,
   "defaultVisibility": true,
   "subLayerIds": null,
   "minScale": 124999,
   "maxScale": 249,
   "type": "Feature Layer",
   "geometryType": "esriGeometryPolygon",
   "supportsDynamicLegends": true
  }
 ],
 "tables": [],
 "spatialReference": {
  "wkid": 25832,
  "latestWkid": 25832,
  "xyTolerance": 0.001,
  "zTolerance": 2,
  "mTolerance": 2,
  "falseX": -5120900,
  "falseY": -9998100,
  "xyUnits": 4.504455473910538E8,
  "falseZ": 0,
  "zUnits": 10000,
  "falseM": -100000,
  "mUnits": 10000
 },
 "singleFusedMapCache": true,
 "tileInfo": {
  "rows": 512,
  "cols": 512,
  "dpi": 96,
  "format": "PNG",
  "compressionQuality": 0,
  "origin": {
   "x": 600000,
   "y": 5500000
  },
  "spatialReference": {
   "wkid": 25832,
   "latestWkid": 25832,
   "xyTolerance": 0.001,
   "zTolerance": 2,
   "mTolerance": 2,
   "falseX": -5120900,
   "falseY": -9998100,
   "xyUnits": 4.504455473910538E8,
   "falseZ": 0,
   "zUnits": 10000,
   "falseM": -100000,
   "mUnits": 10000
  },
  "lods": [
   {
    "level": 0,
    "resolution": 66.1459656252646,
    "scale": 250000
   },
   {
    "level": 1,
    "resolution": 26.458386250105836,
    "scale": 100000
   },
   {
    "level": 2,
    "resolution": 15.875031750063501,
    "scale": 60000
   },
   {
    "level": 3,
    "resolution": 10.583354500042335,
    "scale": 40000
   },
   {
    "level": 4,
    "resolution": 5.291677250021167,
    "scale": 20000
   },
   {
    "level": 5,
    "resolution": 2.6458386250105836,
    "scale": 10000
   }
  ]
 },
 "storageInfo": {
  "storageFormat": "esriMapCacheStorageModeCompactV2",
  "packetSize": 128
 },
 "initialExtent": {
  "xmin": 649930.0150177121,
  "ymin": 5466826.870214176,
  "xmax": 651812.8431886047,
  "ymax": 5468160.109906179,
  "spatialReference": {
   "wkid": 25832,
   "latestWkid": 25832,
   "xyTolerance": 0.001,
   "zTolerance": 2,
   "mTolerance": 2,
   "falseX": -5120900,
   "falseY": -9998100,
   "xyUnits": 4.504455473910538E8,
   "falseZ": 0,
   "zUnits": 10000,
   "falseM": -100000,
   "mUnits": 10000
  }
 },
 "fullExtent": {
  "xmin": 618741.0773,
  "ymin": 5434578.8647,
  "xmax": 673093.2246,
  "ymax": 5500000,
  "spatialReference": {
   "wkid": 25832,
   "latestWkid": 25832,
   "xyTolerance": 0.001,
   "zTolerance": 2,
   "mTolerance": 2,
   "falseX": -5120900,
   "falseY": -9998100,
   "xyUnits": 4.504455473910538E8,
   "falseZ": 0,
   "zUnits": 10000,
   "falseM": -100000,
   "mUnits": 10000
  }
 },
 "datesInUnknownTimezone": false,
 "minScale": 250000,
 "maxScale": 10000,
 "maxLOD": 5,
 "units": "esriMeters",
 "supportedImageFormatTypes": "PNG32,PNG24,PNG,JPG,DIB,TIFF,EMF,PS,PDF,GIF,SVG,SVGZ,BMP",
 "documentInfo": {
  "Title": "Flaechennutzungsplan",
  "Author": "",
  "Comments": "Der Flächennutzungsplan mit integriertem Landschaftsplan ist ein vorbereitender Bauleitplan, der von der Stadt in eigener Verantwortung aufgestellt wird. Ein aktueller und an vorsorgenden Ansprüchen ausgerichteter Flächennutzungsplan ist für die städtebauliche, soziale, ökologische und ökonomische Entwicklung der Stadt uneingeschränkt notwendig. Er ist Grundlage für eine geordnete räumliche Entwicklung der Stadt Nürnberg.Für die Richtigkeit, Aktualität und Vollständigkeit der Daten wird keine Gewähr übernommen.Dieser Dienst ersetzt nicht die Rechtsverbindlichkeit der Originalpläne. Nur der Originalplan gibt im Sinne des BauGB die gültige Rechtslage wieder. Für rechtsverbindliche Auskünfte wenden Sie sich bitte an das Stadtplanungsamt.",
  "Subject": "Flächennutzungsplan der Stadt Nürnberg mit integriertem Landschaftsplan.",
  "Category": "",
  "Version": "3.5.0",
  "AntialiasingMode": "None",
  "TextAntialiasingMode": "Force",
  "Keywords": "Flächennutzungsplan"
 },
 "supportsQueryDomains": true,
 "capabilities": "Map,Query,Data",
 "supportedQueryFormats": "JSON, geoJSON, PBF",
 "exportTilesAllowed": false,
 "referenceScale": 1000.0,
 "supportsDatumTransformation": true,
 "archivingInfo": {
  "supportsHistoricMoment": false
 },
 "supportsClipping": true,
 "supportsSpatialFilter": true,
 "supportsTimeRelation": true,
 "supportsQueryDataElements": true,
 "mapUnits": {
  "uwkid": 9001
 },
 "maxSelectionCount": 2000,
 "maxRecordCount": 2000,
 "maxImageHeight": 4096,
 "maxImageWidth": 4096,
 "supportedExtensions": "WMSServer",
 "resampling": true,
 "serviceItemId": "c8dcac9da38d479ba7f2501bda724c21"
}
